BEGIN:VCALENDAR
PRODID:gceo.georgia.gov
VERSION:2.0
CALSCALE:GREGORIAN
BEGIN:VEVENT
UID:7b551b210d6a68261bead8d81df435f3
DTSTAMP:20260425T030158Z
SUMMARY:Office Closure
DESCRIPTION:The Georgia Commission on Equal Opportunity-Office of the Gover
 nor will be closed on Monday\, October 14\, 2019 in observance of Columbus
  Day. The office will resume normal business hours on Tuesday\, October 15
 \, 2019. 
URL:https://gceo.georgia.gov/events/2019-10-14/office-closure
DTSTART;VALUE=DATE:20191014
X-LIC-LOCATION:America/New_York
X-WR-TIMEZONE:America/New_York
END:VEVENT
BEGIN:VTIMEZONE
TZID:America/New_York
END:VTIMEZONE
END:VCALENDAR
