BEGIN:VCALENDAR
PRODID:gceo.georgia.gov
VERSION:2.0
CALSCALE:GREGORIAN
BEGIN:VEVENT
UID:697e64a72637689a084dbccf8679a8ac
DTSTAMP:20260425T011432Z
SUMMARY:GCEO Advisory Board Meeting
DESCRIPTION:In accordance with O.C.G.A. 50-14-1 Open Meetings Act\, the Geo
 rgia Commission on Equal Opportunity's Advisory Board will meet on Thursd
 ay\, November 14th\, at 10:00am at Bryan Cave Leighton Paisner located at
  One Atlantic Center-1201 W. Peachtree Street N.W. Atlanta\, GA 30309. \
 n\n\n\nThe agenda is as follows:\n\n\n\nGCEO’s Strategic Plan (2020)\n\n
 \n\nGCEO’s Budget Requests (Amended 2019 & 2020)\n\n\n\nEmployment Divis
 ion Update\n\n\n\nHousing Division Update\n\n\n\nPublic Accommodations Leg
 islative Advocacy\n\n\n\nRelocation
URL:https://gceo.georgia.gov/events/2019-11-14/gceo-advisory-board-meeting
DTSTART;VALUE=DATE:20191114
DTEND;VALUE=DATE:20191115
LOCATION:1201 W. Peachtree Street  One Atlantic Center\, 14th Floor    Atla
 nta \, GA 30309 US
X-LIC-LOCATION:America/New_York
X-WR-TIMEZONE:America/New_York
END:VEVENT
BEGIN:VTIMEZONE
TZID:America/New_York
END:VTIMEZONE
END:VCALENDAR
