BEGIN:VCALENDAR
PRODID:gceo.georgia.gov
VERSION:2.0
CALSCALE:GREGORIAN
BEGIN:VEVENT
UID:f9472d25da6d5cba83d94eb06ecb1a59
DTSTAMP:20260425T011002Z
SUMMARY:State Holiday Observance-GCEO Office Closure
URL:https://gceo.georgia.gov/events/2020-04-10/state-holiday-observance-gce
 o-office-clo
DTSTART;VALUE=DATE:20200410
X-LIC-LOCATION:America/New_York
X-WR-TIMEZONE:America/New_York
END:VEVENT
BEGIN:VTIMEZONE
TZID:America/New_York
END:VTIMEZONE
END:VCALENDAR
