BEGIN:VCALENDAR
PRODID:gceo.georgia.gov
VERSION:2.0
CALSCALE:GREGORIAN
BEGIN:VEVENT
UID:b65d0182baacc08d30524f38b53e51e9
DTSTAMP:20260425T011432Z
SUMMARY:Office Closure
DESCRIPTION:The Georgia Commission on Equal Opportunity will be closed in o
 bservance of Memorial Day on Monday\, May 25\, 2020. Normal business hours
  will resume on Tuesday\, May 26\, 2020.
URL:https://gceo.georgia.gov/events/2020-05-22/office-closure
DTSTART;VALUE=DATE:20200522
DTEND;VALUE=DATE:20200527
X-LIC-LOCATION:America/New_York
X-WR-TIMEZONE:America/New_York
END:VEVENT
BEGIN:VTIMEZONE
TZID:America/New_York
END:VTIMEZONE
END:VCALENDAR
