BEGIN:VCALENDAR
PRODID:gceo.georgia.gov
VERSION:2.0
CALSCALE:GREGORIAN
BEGIN:VEVENT
UID:afcb5ee0deeda9c3cddecfee69446d71
DTSTAMP:20260424T210247Z
SUMMARY:Independence Day Observance
URL:https://gceo.georgia.gov/events/2020-07-03/independence-day-observance
DTSTART;VALUE=DATE:20200703
X-LIC-LOCATION:America/New_York
X-WR-TIMEZONE:America/New_York
END:VEVENT
BEGIN:VTIMEZONE
TZID:America/New_York
END:VTIMEZONE
END:VCALENDAR
