BEGIN:VCALENDAR
PRODID:gceo.georgia.gov
VERSION:2.0
CALSCALE:GREGORIAN
BEGIN:VEVENT
UID:d0abc61de60c81a38545c07ae2984559
DTSTAMP:20260425T011002Z
SUMMARY:Labor Day Observance
DESCRIPTION:The Georgia Commission on Equal Opportunity will be closed on M
 onday\, September 7\, 2020 in observance of Labor Day. Normal business hou
 rs will resume on Tuesday\, September 8\, 2020.
URL:https://gceo.georgia.gov/events/2020-09-07/labor-day-observance
DTSTART;VALUE=DATE:20200907
DTEND;VALUE=DATE:20200908
X-LIC-LOCATION:America/New_York
X-WR-TIMEZONE:America/New_York
END:VEVENT
BEGIN:VTIMEZONE
TZID:America/New_York
END:VTIMEZONE
END:VCALENDAR
