BEGIN:VCALENDAR
PRODID:gceo.georgia.gov
VERSION:2.0
CALSCALE:GREGORIAN
BEGIN:VEVENT
UID:3865fe3fa5d3337fc8d93c2ba1e3b9e0
DTSTAMP:20260425T011432Z
SUMMARY:Columbus Day Observance
URL:https://gceo.georgia.gov/events/2020-10-12/office-closure
DTSTART;VALUE=DATE:20201012
X-LIC-LOCATION:America/New_York
X-WR-TIMEZONE:America/New_York
END:VEVENT
BEGIN:VTIMEZONE
TZID:America/New_York
END:VTIMEZONE
END:VCALENDAR
