BEGIN:VCALENDAR
PRODID:gceo.georgia.gov
VERSION:2.0
CALSCALE:GREGORIAN
BEGIN:VEVENT
UID:e0665201d1cdf1890f8b6d938817fc50
DTSTAMP:20260425T011002Z
SUMMARY:Office Closure
URL:https://gceo.georgia.gov/events/2020-11-10/holiday-observance
DTSTART;VALUE=DATE:20201110
DTEND;VALUE=DATE:20201112
X-LIC-LOCATION:America/New_York
X-WR-TIMEZONE:America/New_York
END:VEVENT
BEGIN:VTIMEZONE
TZID:America/New_York
END:VTIMEZONE
END:VCALENDAR
