BEGIN:VCALENDAR
PRODID:gceo.georgia.gov
VERSION:2.0
CALSCALE:GREGORIAN
BEGIN:VEVENT
UID:6840b3e0553bbe5b33f65d1ce766c37c
DTSTAMP:20260425T011003Z
SUMMARY:Holiday Office Closure
URL:https://gceo.georgia.gov/events/2020-11-25/holiday-office-closure
DTSTART;VALUE=DATE:20201125
DTEND;VALUE=DATE:20201128
X-LIC-LOCATION:America/New_York
X-WR-TIMEZONE:America/New_York
END:VEVENT
BEGIN:VTIMEZONE
TZID:America/New_York
END:VTIMEZONE
END:VCALENDAR
