BEGIN:VCALENDAR
VERSION:2.0
PRODID:gceo.georgia.gov
X-WR-TIMEZONE:America/New_York
BEGIN:VTIMEZONE
TZID:America/New_York
X-LIC-LOCATION:America/New_York
END:VTIMEZONE
BEGIN:VEVENT
UID:60813dec24f39
DTSTART;VALUE=DATE:20210101
SEQUENCE:0
TRANSP:OPAQUE
DTEND;VALUE=DATE:20210103
URL:https://gceo.georgia.gov/events/2021-01-01/holiday-office-closure
SUMMARY:Holiday Office Closure
CLASS:PUBLIC
X-MICROSOFT-CDO-ALLDAYEVENT:TRUE
DTSTAMP:20210422T051212Z
END:VEVENT
END:VCALENDAR