BEGIN:VCALENDAR
PRODID:gceo.georgia.gov
VERSION:2.0
CALSCALE:GREGORIAN
BEGIN:VEVENT
UID:ec09c5e0513551370df11a300b38c16d
DTSTAMP:20260425T011002Z
SUMMARY:Holiday Office Closure
URL:https://gceo.georgia.gov/events/2021-01-18/holiday-office-closure
DTSTART;VALUE=DATE:20210118
DTEND;VALUE=DATE:20210120
X-LIC-LOCATION:America/New_York
X-WR-TIMEZONE:America/New_York
END:VEVENT
BEGIN:VTIMEZONE
TZID:America/New_York
END:VTIMEZONE
END:VCALENDAR
