BEGIN:VCALENDAR
PRODID:gceo.georgia.gov
VERSION:2.0
CALSCALE:GREGORIAN
BEGIN:VEVENT
UID:29dd3141d85a5c0e200caa84a8e8b681
DTSTAMP:20260425T030129Z
SUMMARY:GCEO Advisory Board Meeting
DESCRIPTION:In accordance with O.C.G.A. 50-14-1 Open Meeting Acts\, the Geo
 rgia Commission on Equal Opportunity's Advisory Board will meet:Thursday\,
  May 2\, 2019 10:00 a.m.GCEO's Conference Room\, Suite 351Meeting AgendaA
 pproval of February 2019 MinutesNew Executive Director TransitionBudgetSta
 ff ChangesHUD Assessment UpdateNew Website Advocacy BillsAdjournment
URL:https://gceo.georgia.gov/events/2019-05-02/gceo-advisory-board-meeting
DTSTART;VALUE=DATE:20190502
DTEND;VALUE=DATE:20190503
LOCATION:7 Martin Luther King Jr. Drive SW  Atlanta\, GA 30334 US
X-LIC-LOCATION:America/New_York
X-WR-TIMEZONE:America/New_York
END:VEVENT
BEGIN:VTIMEZONE
TZID:America/New_York
END:VTIMEZONE
END:VCALENDAR
